BEGIN:VCALENDAR
VERSION:2.0
PRODID:-//Die sch&ouml;ne M&uuml;llerin - unterwegs - ECPv6.15.20//NONSGML v1.0//EN
CALSCALE:GREGORIAN
METHOD:PUBLISH
X-WR-CALNAME:Die sch&ouml;ne M&uuml;llerin - unterwegs
X-ORIGINAL-URL:https://muellerin-unterwegs.info
X-WR-CALDESC:Veranstaltungen für Die sch&ouml;ne M&uuml;llerin - unterwegs
REFRESH-INTERVAL;VALUE=DURATION:PT1H
X-Robots-Tag:noindex
X-PUBLISHED-TTL:PT1H
BEGIN:VTIMEZONE
TZID:Europe/Berlin
BEGIN:DAYLIGHT
TZOFFSETFROM:+0100
TZOFFSETTO:+0200
TZNAME:CEST
DTSTART:20250330T010000
END:DAYLIGHT
BEGIN:STANDARD
TZOFFSETFROM:+0200
TZOFFSETTO:+0100
TZNAME:CET
DTSTART:20251026T010000
END:STANDARD
BEGIN:DAYLIGHT
TZOFFSETFROM:+0100
TZOFFSETTO:+0200
TZNAME:CEST
DTSTART:20260329T010000
END:DAYLIGHT
BEGIN:STANDARD
TZOFFSETFROM:+0200
TZOFFSETTO:+0100
TZNAME:CET
DTSTART:20261025T010000
END:STANDARD
BEGIN:DAYLIGHT
TZOFFSETFROM:+0100
TZOFFSETTO:+0200
TZNAME:CEST
DTSTART:20270328T010000
END:DAYLIGHT
BEGIN:STANDARD
TZOFFSETFROM:+0200
TZOFFSETTO:+0100
TZNAME:CET
DTSTART:20271031T010000
END:STANDARD
END:VTIMEZONE
BEGIN:VEVENT
DTSTART;TZID=Europe/Berlin:20260118T200000
DTEND;TZID=Europe/Berlin:20260118T213000
DTSTAMP:20260423T134140
CREATED:20250912T110203Z
LAST-MODIFIED:20250912T110203Z
UID:207-1768766400-1768771800@muellerin-unterwegs.info
SUMMARY:Die schöne Müllerin – unterwegs | Halle (Saale)
DESCRIPTION:Wir freuen uns sehr\, mit „Die schöne Müllerin – unterwegs“ in Halle (Saale) Station zu machen! \nDer Tenor Taras Semenov und die Pianistin Sofia Semenina präsentieren Franz Schuberts berühmten Liederzyklus D 795 im Roten Horizont\, dem außergewöhnlichen Veranstaltungsraum im historischen Handelshaus Hansen. \nDas Handelshaus Hansen ist ein kulturelles Kleinod inmitten der halleschen Altstadt: Ein liebevoll restauriertes Haus\, das zeitgenössische Kunst\, Musik und Begegnung miteinander verbindet. Der Rote Horizont – mit seiner warmen Atmosphäre\, klaren Raumgestaltung und dem Blick auf die wechselnden Kunstausstellungen – ist ein Ort\, an dem Konzert und Kunst einander begegnen und das Publikum ganz nah am Geschehen ist. \nWir sind dankbar\, diesen inspirierenden Raum gemeinsam mit dem Handelshaus Hansen für einen Abend in Klang zu verwandeln. \nZum Veranstalter
URL:https://muellerin-unterwegs.info/event/die-schoene-muellerin-unterwegs-halle-saale/
LOCATION:Roter Horizont | Tee- & Kaffeehaus
CATEGORIES:Konzert
END:VEVENT
END:VCALENDAR